BEGIN:VCALENDAR
VERSION:2.0
PRODID:-//Library Market//iCal Export//EN
BEGIN:VEVENT
SUMMARY:Monday Makerspace
UID:11417
DTSTAMP:20260422T114400Z
DTSTART:20260511T210000Z
DTEND:20260511T223000Z
LOCATION:Lyons Regional Library, 451 4th Ave, Lyons, CO 80540, United Stat
 es
ROOM: Community Room
DESCRIPTION:An open studio for makers of all ages—kids, teens, adults, a
 nd families! Drop in to explore a rotating selection of art and craft mate
 rials centered on a loose theme. No set projects—just space, supplies, a
 nd inspiration to create at your own pace. Come and go as you please—no 
 registration required.
URL:https://lyons.librarycalendar.com/event/monday-makerspace-11417
END:VEVENT
END:VCALENDAR
